BEGIN:VCALENDAR
VERSION:2.0
PRODID:-//Health Justice Initiative - ECPv6.15.20//NONSGML v1.0//EN
CALSCALE:GREGORIAN
METHOD:PUBLISH
X-WR-CALNAME:Health Justice Initiative
X-ORIGINAL-URL:https://health-justice.org
X-WR-CALDESC:Events for Health Justice Initiative
REFRESH-INTERVAL;VALUE=DURATION:PT1H
X-Robots-Tag:noindex
X-PUBLISHED-TTL:PT1H
BEGIN:VTIMEZONE
TZID:UTC
BEGIN:STANDARD
TZOFFSETFROM:+0000
TZOFFSETTO:+0000
TZNAME:UTC
DTSTART:20240101T000000
END:STANDARD
END:VTIMEZONE
BEGIN:VEVENT
DTSTART;TZID=UTC:20250816T110000
DTEND;TZID=UTC:20250816T110000
DTSTAMP:20260424T233612
CREATED:20251008T215137Z
LAST-MODIFIED:20251011T214711Z
UID:1862-1755342000-1755342000@health-justice.org
SUMMARY:Come See Us at The "Community Family Festival 2025 hosted by City of Hope Greater Saint Mary Church of Christ & L’Chayim Family Ministries at MS 267"
DESCRIPTION:
URL:https://health-justice.org/event/community-family-festival-2025-hosted-by-city-of-hope-greater-saint-mary-church-of-christ-lchayim-family-ministries-at-ms-267/
END:VEVENT
BEGIN:VEVENT
DTSTART;TZID=UTC:20250819T000000
DTEND;TZID=UTC:20250819T000000
DTSTAMP:20260424T233612
CREATED:20251008T215148Z
LAST-MODIFIED:20251011T214656Z
UID:1864-1755561600-1755561600@health-justice.org
SUMMARY:Come See Us at The "Community Health Event with Aetna"
DESCRIPTION:
URL:https://health-justice.org/event/community-health-event-with-aetna/
END:VEVENT
END:VCALENDAR