BEGIN:VCALENDAR
VERSION:2.0
PRODID:-//Health Justice Initiative - ECPv6.15.20//NONSGML v1.0//EN
CALSCALE:GREGORIAN
METHOD:PUBLISH
X-WR-CALNAME:Health Justice Initiative
X-ORIGINAL-URL:https://health-justice.org
X-WR-CALDESC:Events for Health Justice Initiative
REFRESH-INTERVAL;VALUE=DURATION:PT1H
X-Robots-Tag:noindex
X-PUBLISHED-TTL:PT1H
BEGIN:VTIMEZONE
TZID:UTC
BEGIN:STANDARD
TZOFFSETFROM:+0000
TZOFFSETTO:+0000
TZNAME:UTC
DTSTART:20240101T000000
END:STANDARD
END:VTIMEZONE
BEGIN:VEVENT
DTSTART;TZID=UTC:20250725T000000
DTEND;TZID=UTC:20250725T000000
DTSTAMP:20260425T113157
CREATED:20251008T215135Z
LAST-MODIFIED:20251011T214734Z
UID:1860-1753401600-1753401600@health-justice.org
SUMMARY:Come See Us at The "CABS Health and Community Resource Fair"
DESCRIPTION:
URL:https://health-justice.org/event/cabs-health-and-community-resource-fair/
END:VEVENT
BEGIN:VEVENT
DTSTART;TZID=UTC:20250722T000000
DTEND;TZID=UTC:20250722T000000
DTSTAMP:20260425T113157
CREATED:20251008T215134Z
LAST-MODIFIED:20251011T214910Z
UID:1859-1753142400-1753142400@health-justice.org
SUMMARY:Come See Us at The "Open House July Celebration by Health Care Choices NY"
DESCRIPTION:
URL:https://health-justice.org/event/open-house-july-celebration-by-health-care-choices-ny/
END:VEVENT
BEGIN:VEVENT
DTSTART;TZID=UTC:20250719T000000
DTEND;TZID=UTC:20250719T000000
DTSTAMP:20260425T113157
CREATED:20251008T215132Z
LAST-MODIFIED:20251011T214917Z
UID:1858-1752883200-1752883200@health-justice.org
SUMMARY:Come See Us at The "Community Appreciation Day with East New York Farms"
DESCRIPTION:
URL:https://health-justice.org/event/community-appreciation-day-with-east-new-york-farms/
END:VEVENT
BEGIN:VEVENT
DTSTART;TZID=UTC:20250712T000000
DTEND;TZID=UTC:20250712T000000
DTSTAMP:20260425T113157
CREATED:20251008T215131Z
LAST-MODIFIED:20251011T214923Z
UID:1857-1752278400-1752278400@health-justice.org
SUMMARY:Come See Us at The "East New York Farmers Market"
DESCRIPTION:
URL:https://health-justice.org/event/east-new-york-farmers-market/
END:VEVENT
BEGIN:VEVENT
DTSTART;TZID=UTC:20250629T000000
DTEND;TZID=UTC:20250629T000000
DTSTAMP:20260425T113157
CREATED:20251008T213403Z
LAST-MODIFIED:20251011T214931Z
UID:1848-1751155200-1751155200@health-justice.org
SUMMARY:Come See Us at The "Pride tabling event with ACTUP and ATLS"
DESCRIPTION:
URL:https://health-justice.org/event/pride-tabling-event-with-actup-and-atls/
END:VEVENT
BEGIN:VEVENT
DTSTART;TZID=UTC:20250628T000000
DTEND;TZID=UTC:20250628T000000
DTSTAMP:20260425T113157
CREATED:20251008T213402Z
LAST-MODIFIED:20251011T214939Z
UID:1847-1751068800-1751068800@health-justice.org
SUMMARY:Come See Us at The "Tabling at the Intergenerational Community Festival hosted by NYC council member Chris Banks of the 42nd council district"
DESCRIPTION:
URL:https://health-justice.org/event/tabling-at-the-intergenerational-community-festival-hosted-by-nyc-council-member-chris-banks-of-the-42nd-council-district/
END:VEVENT
BEGIN:VEVENT
DTSTART;TZID=UTC:20250627T000000
DTEND;TZID=UTC:20250627T000000
DTSTAMP:20260425T113157
CREATED:20251008T213401Z
LAST-MODIFIED:20251011T214947Z
UID:1846-1750982400-1750982400@health-justice.org
SUMMARY:Come See Us at The "Attending Brownsville Wellness Market"
DESCRIPTION:
URL:https://health-justice.org/event/attending-brownsville-wellness-market/
END:VEVENT
END:VCALENDAR