BEGIN:VCALENDAR
VERSION:2.0
PRODID:-//Health Justice Initiative - ECPv6.15.20//NONSGML v1.0//EN
CALSCALE:GREGORIAN
METHOD:PUBLISH
X-WR-CALNAME:Health Justice Initiative
X-ORIGINAL-URL:https://health-justice.org
X-WR-CALDESC:Events for Health Justice Initiative
REFRESH-INTERVAL;VALUE=DURATION:PT1H
X-Robots-Tag:noindex
X-PUBLISHED-TTL:PT1H
BEGIN:VTIMEZONE
TZID:UTC
BEGIN:STANDARD
TZOFFSETFROM:+0000
TZOFFSETTO:+0000
TZNAME:UTC
DTSTART:20250101T000000
END:STANDARD
END:VTIMEZONE
BEGIN:VEVENT
DTSTART;TZID=UTC:20260425T110000
DTEND;TZID=UTC:20260425T170000
DTSTAMP:20260423T131739
CREATED:20260325T205510Z
LAST-MODIFIED:20260325T205510Z
UID:3086-1777114800-1777136400@health-justice.org
SUMMARY:3rd Annual The Carey Gabay Foundation Wellness EXPO
DESCRIPTION:
URL:https://health-justice.org/event/3rd-annual-the-carey-gabay-foundation-wellness-expo/
LOCATION:Major Owens Health and  Wellness Community  Center  1561 Bedford Ave.\,  Betty Carter Auditorium  Brooklyn\, NY 11225
END:VEVENT
BEGIN:VEVENT
DTSTART;TZID=UTC:20260516T110000
DTEND;TZID=UTC:20260516T150000
DTSTAMP:20260423T131739
CREATED:20260325T205629Z
LAST-MODIFIED:20260325T205629Z
UID:3089-1778929200-1778943600@health-justice.org
SUMMARY:Sesame Flyer International Community Health Fair
DESCRIPTION:
URL:https://health-justice.org/event/sesame-flyer-international-community-health-fair/
LOCATION:Bildersee Beacon  956 E. 82nd Street  Brooklyn\, NY 11203
END:VEVENT
BEGIN:VEVENT
DTSTART;TZID=UTC:20260718T100000
DTEND;TZID=UTC:20260718T150000
DTSTAMP:20260423T131739
CREATED:20260219T003011Z
LAST-MODIFIED:20260219T003237Z
UID:2952-1784368800-1784386800@health-justice.org
SUMMARY:Trinity Methodist Church Annual Health Fair
DESCRIPTION:
URL:https://health-justice.org/event/trinity-methodist-church-annual-health-fair/
LOCATION:1148 Eastern Pkwy\, Brooklyn\, NY
END:VEVENT
BEGIN:VEVENT
DTSTART;TZID=UTC:20260719T120000
DTEND;TZID=UTC:20260719T170000
DTSTAMP:20260423T131739
CREATED:20260219T003205Z
LAST-MODIFIED:20260219T003205Z
UID:2955-1784462400-1784480400@health-justice.org
SUMMARY:Agape SDA Church Community Health Fair
DESCRIPTION:
URL:https://health-justice.org/event/agape-sda-church-community-health-fair/
LOCATION:On 120th St Between 101st & 95th Avenues\, Richmond Hill\, Queens\, NY
END:VEVENT
BEGIN:VEVENT
DTSTART;TZID=UTC:20260815T100000
DTEND;TZID=UTC:20260815T160000
DTSTAMP:20260423T131739
CREATED:20260219T003442Z
LAST-MODIFIED:20260219T003442Z
UID:2960-1786788000-1786809600@health-justice.org
SUMMARY:CLCC (Changing Lives Christian Center) Annual Community Health Fair & Family Fun Day
DESCRIPTION:
URL:https://health-justice.org/event/clcc-changing-lives-christian-center-annual-community-health-fair-family-fun-day/
LOCATION:Gateway Estates\, 1115 Ashford St\, Brooklyn\, NY\, 11239
END:VEVENT
BEGIN:VEVENT
DTSTART;TZID=UTC:20260822T110000
DTEND;TZID=UTC:20260822T163000
DTSTAMP:20260423T131739
CREATED:20260219T003626Z
LAST-MODIFIED:20260219T003626Z
UID:2963-1787396400-1787416200@health-justice.org
SUMMARY:Summer Community Health Fair & Back to School
DESCRIPTION:
URL:https://health-justice.org/event/summer-community-health-fair-back-to-school/
LOCATION:Liberty Hall Cathedral of Praise 1387 E 96th\, Brooklyn\, NY\, 11236
END:VEVENT
BEGIN:VEVENT
DTSTART;TZID=UTC:20260829T110000
DTEND;TZID=UTC:20260829T150000
DTSTAMP:20260423T131739
CREATED:20260219T003837Z
LAST-MODIFIED:20260219T003837Z
UID:2966-1788001200-1788015600@health-justice.org
SUMMARY:International Pentecostal City Mission\, Inc. 14th Annual Community Health Fair: Healthy\, Wealthy and Wise
DESCRIPTION:
URL:https://health-justice.org/event/international-pentecostal-city-mission-inc-14th-annual-community-health-fair-healthy-wealthy-and-wise/
LOCATION:9202-14 Church Avenue\, Brooklyn\, NY\, 11236
END:VEVENT
BEGIN:VEVENT
DTSTART;TZID=UTC:20260919T120000
DTEND;TZID=UTC:20260919T160000
DTSTAMP:20260423T131739
CREATED:20260219T003956Z
LAST-MODIFIED:20260219T003956Z
UID:2969-1789819200-1789833600@health-justice.org
SUMMARY:Full Gospel Assembly of God Annual Health Fair
DESCRIPTION:
URL:https://health-justice.org/event/full-gospel-assembly-of-god-annual-health-fair/
LOCATION:131 Sullivan Place (Between Bedford and Rogers Ave)\, Brooklyn\, NY
END:VEVENT
END:VCALENDAR