BEGIN:VCALENDAR
VERSION:2.0
PRODID:-//Health Justice Initiative - ECPv6.15.20//NONSGML v1.0//EN
CALSCALE:GREGORIAN
METHOD:PUBLISH
X-ORIGINAL-URL:https://health-justice.org
X-WR-CALDESC:Events for Health Justice Initiative
REFRESH-INTERVAL;VALUE=DURATION:PT1H
X-Robots-Tag:noindex
X-PUBLISHED-TTL:PT1H
BEGIN:VTIMEZONE
TZID:UTC
BEGIN:STANDARD
TZOFFSETFROM:+0000
TZOFFSETTO:+0000
TZNAME:UTC
DTSTART:20250101T000000
END:STANDARD
END:VTIMEZONE
BEGIN:VEVENT
DTSTART;TZID=UTC:20260311T110000
DTEND;TZID=UTC:20260311T150000
DTSTAMP:20260424T155337
CREATED:20260219T002721Z
LAST-MODIFIED:20260219T002721Z
UID:2949-1773226800-1773241200@health-justice.org
SUMMARY:Medgar Evers College Health and Wellness Fair
DESCRIPTION:
URL:https://health-justice.org/event/medgar-evers-college-health-and-wellness-fair/
LOCATION:Medgar Evers College CUNY\, 1637 Bedford Ave AB 1 Building\, Cafeteria\, Brooklyn\, New York\, 11225
END:VEVENT
END:VCALENDAR