BEGIN:VCALENDAR
VERSION:2.0
PRODID:-//Health Justice Initiative - ECPv6.15.20//NONSGML v1.0//EN
CALSCALE:GREGORIAN
METHOD:PUBLISH
X-ORIGINAL-URL:https://health-justice.org
X-WR-CALDESC:Events for Health Justice Initiative
REFRESH-INTERVAL;VALUE=DURATION:PT1H
X-Robots-Tag:noindex
X-PUBLISHED-TTL:PT1H
BEGIN:VTIMEZONE
TZID:UTC
BEGIN:STANDARD
TZOFFSETFROM:+0000
TZOFFSETTO:+0000
TZNAME:UTC
DTSTART:20240101T000000
END:STANDARD
END:VTIMEZONE
BEGIN:VEVENT
DTSTART;TZID=UTC:20251011T100000
DTEND;TZID=UTC:20251011T100000
DTSTAMP:20260424T221058
CREATED:20251008T215151Z
LAST-MODIFIED:20251011T214532Z
UID:1868-1760176800-1760176800@health-justice.org
SUMMARY:Come See Us at The "Age Friendly Central Brooklyn Health Fair"
DESCRIPTION:
URL:https://health-justice.org/event/age-friendly-central-brooklyn-health-fair/
END:VEVENT
END:VCALENDAR